BEGIN:VCALENDAR
VERSION:2.0
PRODID:-//Tukios.com/
BEGIN:VEVENT
UID:ff37c1e5-7272-4fa5-b42d-e5361449dffb@www.jacksonlytle.com
DTSTAMP:20260421T010644Z
DTSTART:20260503T170000Z
DTEND:20260503T180000Z
SUMMARY:Visitation
DESCRIPTION:
URL:https://www.jacksonlytle.com/obituaries/bert-cassel
LOCATION:Jackson, Lytle & Lewis Life Celebration Center 2425 North 
	Limestone Street  Springfield OH 45503
GEO:39.9561536;-83.8043733
END:VEVENT
END:VCALENDAR