BEGIN:VCALENDAR
VERSION:2.0
PRODID:-//Tukios.com/
BEGIN:VEVENT
UID:adc1f8e3-9887-46af-aaf1-75d57d7c8590@www.jacksonlytle.com
DTSTAMP:20260421T011158Z
DTSTART:20260503T180000Z
DTEND:20260503T190000Z
SUMMARY:Celebration of Life
DESCRIPTION:
URL:https://www.jacksonlytle.com/obituaries/bert-cassel
LOCATION:Jackson, Lytle & Lewis Life Celebration Center 2425 North 
	Limestone Street  Springfield OH 45503
GEO:39.9561536;-83.8043733
END:VEVENT
END:VCALENDAR