BEGIN:VCALENDAR
VERSION:2.0
PRODID:-//Tukios.com/
BEGIN:VEVENT
UID:d00ba827-efea-428f-b7d0-28d01d4a5119@www.jacksonlytle.com
DTSTAMP:20260425T190048Z
DTSTART:20260511T170000Z
DTEND:20260511T180000Z
SUMMARY:Burial
DESCRIPTION:
URL:https://www.jacksonlytle.com/obituaries/forest-rodgers-jr
LOCATION: 4400 W. 3rd St.  Dayton OH 45428
GEO:39.7473319;-84.2579571
END:VEVENT
END:VCALENDAR