BEGIN:VCALENDAR
VERSION:2.0
PRODID:-//Tukios.com/
BEGIN:VEVENT
UID:811007b4-1ed7-4c95-bc4a-9e610f8308f2@www.jacksonlytle.com
DTSTAMP:20260425T190201Z
DTSTART:20260501T200000Z
DTEND:20260501T220000Z
SUMMARY:Visitation
DESCRIPTION:
URL:https://www.jacksonlytle.com/obituaries/forest-rodgers-jr
LOCATION:Jackson Lytle And Lewis Life Celebration Center 2425 N Limestone 
	St  Springfield OH 45503
GEO:39.9561536;-83.8043733
END:VEVENT
END:VCALENDAR