BEGIN:VCALENDAR
VERSION:2.0
PRODID:-//Tukios.com/
BEGIN:VEVENT
UID:b0b0f825-97d8-411d-bb39-1dd185c90d1d@www.jacksonlytle.com
DTSTAMP:20260422T174401Z
DTSTART:20260621T160000Z
DTEND:20260621T170000Z
SUMMARY:Celebration of Life
DESCRIPTION:
URL:https://www.jacksonlytle.com/obituaries/penny-oconnor
LOCATION:John Bryan State Park (Lower Shelter) 3790 Ohio 370  Yellow 
	Springs OH 45387
GEO:39.7892138;-83.853929
END:VEVENT
END:VCALENDAR